BEGIN:VCALENDAR
VERSION:2.0
PRODID:-//ChamberMaster//Event Calendar 2.0//EN
METHOD:PUBLISH
X-PUBLISHED-TTL:P3D
REFRESH-INTERVAL:P3D
CALSCALE:GREGORIAN
BEGIN:VEVENT
DTSTART;VALUE=DATE:20150501
DTEND;VALUE=DATE:20150504
TRANSP:TRANSPARENT
X-MICROSOFT-CDO-ALLDAYEVENT:TRUE
SUMMARY:100 Mile Garage Sale
DESCRIPTION:100 miles of sales\, 100 miles of FUN! With garage sales happening all along the Mississippi River\, you won't have a problem finding as many sales as you'd like to attend! Sponsored by Mississippi Valley Partners\, you're sure to find what you're looking for! Visit www.100milegaragesale.org to map out your route!
X-ALT-DESC;FMTTYPE=text/html:<div style="color: gray\;">100 miles of sales\, 100 miles of FUN! With garage sales happening all along the Mississippi River\, you won&#39\;t have a problem finding as many sales as you&#39\;d like to attend! Sponsored by Mississippi Valley Partners\, you&#39\;re sure to find what you&#39\;re looking for! Visit <a href="http://www.100milegaragesale.org">www.100milegaragesale.org</a> to map out your route!</div>\n
LOCATION:All along the Mississippi River\, in both Minnesota and Wisconsin
UID:e.621.4350
SEQUENCE:3
DTSTAMP:20260425T002645Z
URL:https://public.lakecity.org/events/details/100-mile-garage-sale-05-01-2015-4350
END:VEVENT

END:VCALENDAR
