BEGIN:VCALENDAR
VERSION:2.0
PRODID:-//ChamberMaster//Event Calendar 2.0//EN
METHOD:PUBLISH
X-PUBLISHED-TTL:P3D
REFRESH-INTERVAL:P3D
CALSCALE:GREGORIAN
BEGIN:VEVENT
DTSTART;VALUE=DATE:20170505
DTEND;VALUE=DATE:20170508
TRANSP:TRANSPARENT
X-MICROSOFT-CDO-ALLDAYEVENT:TRUE
SUMMARY:100 Mile Garage Sale
DESCRIPTION:Residents and stores clean out their attics\, garages & basements to create the Most Spectacular Garage Sale.\n\n\n\nA trail of distinctive colored ribbons will identify participating garage sales from Alma on the southern end of the Wisconsin side of Lake Pepin\, north along Hwy. 35 through Nelson\, Pepin\, Stockholm\, and Maiden Rock to Bay City\, WI. The trail then crosses west to Minnesota at Red Wing\, MN and heads south on Hwy. 61 through Frontenac\, Lake City\, Camp LaCupolis\, Reads Landing\, Wabasha\, Kellogg and Winona.\n\n\n\nBargain hunters can start anywhere along the route beginning at about 8AM with closing time set for about 5PM all three days. Rain or Shine!\n\nMississippi Valley Partners sponsors the 100-Mile Garage Sale during the first weekend of May each year. Local residents and bargain hunters from distant cities enjoy church lunches and shopping amid the spring scenery of Lake Pepin and the Mississippi River Valley.\n\n\n\nFollow the balloons & ribbons.
X-ALT-DESC;FMTTYPE=text/html:Residents and stores clean out their attics\, garages &amp\; basements to create the Most Spectacular Garage Sale.<br />\n<br />\nA trail of distinctive colored ribbons will identify participating garage sales from Alma on the southern end of the Wisconsin side of Lake Pepin\, north along Hwy. 35 through Nelson\, Pepin\, Stockholm\, and Maiden Rock to Bay City\, WI. The trail then crosses west to Minnesota at Red Wing\, MN and heads south on Hwy. 61 through Frontenac\, Lake City\, Camp LaCupolis\, Reads Landing\, Wabasha\, Kellogg and Winona.<br />\n<br />\nBargain hunters can start anywhere along the route beginning at about 8AM with closing time set for about 5PM all three days. Rain or Shine!<br />\nMississippi Valley Partners sponsors the 100-Mile Garage Sale during the first weekend of May each year. Local residents and bargain hunters from distant cities enjoy church lunches and shopping amid the spring scenery of Lake Pepin and the Mississippi River Valley.<br />\n<br />\nFollow the balloons &amp\; ribbons.
LOCATION:Around Lake Pepin
UID:e.621.2954
SEQUENCE:3
DTSTAMP:20260422T011333Z
URL:https://public.lakecity.org/events/details/100-mile-garage-sale-05-02-2013-2954
END:VEVENT

END:VCALENDAR
