BEGIN:VCALENDAR
VERSION:2.0
PRODID:-//ChamberMaster//Event Calendar 2.0//EN
METHOD:PUBLISH
X-PUBLISHED-TTL:P3D
REFRESH-INTERVAL:P3D
CALSCALE:GREGORIAN
BEGIN:VEVENT
DTSTART:20180211T190000Z
DTEND:20180211T220000Z
X-MICROSOFT-CDO-ALLDAYEVENT:FALSE
SUMMARY:12th Annual Bling & Chocolate: Hearts & Flowers
DESCRIPTION:The theme for the 12th Annual Bling & Chocolate is Hearts & Flowers. With Valentine's Day just around the corner\, come to the Goodhue County History Center to enjoy an afternoon of chocolate\, wine or champagne\, and jewelry! There will be both a silent and oral auction with many items to choose from for every taste. Bid on jewelry\, desserts\, and experiences that will make your Valentine's Day even better! Tickets can be purchased at the Goodhue County History Center. If you wish to have your tickets mailed to you\, please place your address in the note section of the online order page\, otherwise all tickets will be placed on will call.
X-ALT-DESC;FMTTYPE=text/html:The theme for the 12th Annual Bling &amp\; Chocolate is Hearts &amp\; Flowers. With Valentine&rsquo\;s Day just around the corner\, come to the Goodhue County History Center to enjoy an afternoon of chocolate\, wine or champagne\, and jewelry! There will be both a silent and oral auction with many items to choose from for every taste. Bid on jewelry\, desserts\, and experiences that will make your Valentine&rsquo\;s Day even better! Tickets can be purchased at the Goodhue County History Center. If you wish to have your tickets mailed to you\, please place your address in the note section of the online order page\, otherwise all tickets will be placed on will call.
LOCATION:Goodhue County History Center 1166 Oak Street Red Wing\, MN 55066
UID:e.621.6816
SEQUENCE:3
DTSTAMP:20260421T102050Z
URL:https://public.lakecity.org/events/details/12th-annual-bling-chocolate-hearts-flowers-6816
END:VEVENT

END:VCALENDAR
