BEGIN:VCALENDAR
VERSION:2.0
PRODID:-//ChamberMaster//Event Calendar 2.0//EN
METHOD:PUBLISH
X-PUBLISHED-TTL:P3D
REFRESH-INTERVAL:P3D
CALSCALE:GREGORIAN
BEGIN:VEVENT
DTSTART:20200926T120000Z
DTEND:20201004T220000Z
X-MICROSOFT-CDO-ALLDAYEVENT:FALSE
SUMMARY:13th Annual Tour de Pepin Virtual Ride
DESCRIPTION:We're going virtual for 2020! "Join us" for the virtual ride this year from September 26-October 5\, 2020. Riders who register will receive the 13th annual Tour de Pepin t-shirt\, regional swag/promotional items\, and be entered into a drawing for a South Shore Prize Package valued at over $1\,000!!!\n\n\n\nWe're sad we can't be together\, but we want this ride to continue to be the exceptional ride many of you have grown to love and continue to support Lake Pepin Legacy Alliance (LPLA). Proceeds from the virtual ride will go towards future rides and the LPLA. We appreciate your support!
X-ALT-DESC;FMTTYPE=text/html:<p>We&#39\;re going virtual for 2020! &quot\;Join us&quot\; for the virtual ride this year from September 26-October 5\, 2020. Riders who register will receive the 13th annual Tour de Pepin t-shirt\, regional swag/promotional items\, and be entered into a drawing for a South Shore Prize Package valued at over $1\,000!!!<br />\n<br />\nWe&#39\;re sad we can&#39\;t be together\, but we want this ride to continue to be the exceptional ride many of you have grown to love and continue to support Lake Pepin Legacy Alliance (LPLA). Proceeds from the virtual ride will go towards&nbsp\;future rides and the LPLA. We appreciate your support!</p>\n
LOCATION:The 2020 ride has gone virtual! You can ride it from wherever you are or travel to the region and ride the standard Tour de Pepin route. Please note that route will not have signage\, so be sure to follow the ride guide map.
UID:e.621.8047
SEQUENCE:3
DTSTAMP:20260424T182011Z
URL:https://public.lakecity.org/events/details/13th-annual-tour-de-pepin-virtual-ride-8047
END:VEVENT

END:VCALENDAR
