BEGIN:VCALENDAR
VERSION:2.0
PRODID:-//ChamberMaster//Event Calendar 2.0//EN
METHOD:PUBLISH
X-PUBLISHED-TTL:P3D
REFRESH-INTERVAL:P3D
CALSCALE:GREGORIAN
BEGIN:VEVENT
DTSTART:20170924T140000Z
DTEND:20170924T220000Z
X-MICROSOFT-CDO-ALLDAYEVENT:FALSE
SUMMARY:17th Annual Corn Shredding Autumn Harvest
DESCRIPTION:FUN FOR ALL AGES!  Come see history at work!\n\n*Country Store & Gifts\n\n*Fall Tillage Demo\n\n*Corn Binding\n\n*Parade at 1pm\n\n*Silo Filling\n\n*Corn Shredding\n\n*Machinery on Display\n\n*Blacksmith\n\n*Corn Shelling\n\n*Threshing\n\n*Potato Digging\n\n*Silent Auction\n\n*Kids Pedal Pull (Sunday at 2pm)
X-ALT-DESC;FMTTYPE=text/html:<div>FUN FOR ALL AGES!&nbsp\; Come see history at work!</div>\n\n<div>*Country Store &amp\; Gifts</div>\n\n<div>*Fall Tillage Demo</div>\n\n<div>*Corn Binding</div>\n\n<div>*Parade at 1pm</div>\n\n<div>*Silo Filling</div>\n\n<div>*Corn Shredding</div>\n\n<div>*Machinery on Display</div>\n\n<div>*Blacksmith</div>\n\n<div>*Corn Shelling</div>\n\n<div>*Threshing</div>\n\n<div>*Potato Digging</div>\n\n<div>*Silent Auction</div>\n\n<div>*Kids Pedal Pull (Sunday at 2pm)</div>\n
LOCATION:
UID:e.621.5451
SEQUENCE:3
DTSTAMP:20260421T183702Z
URL:https://public.lakecity.org/events/details/17th-annual-corn-shredding-autumn-harvest-09-24-2017-5451
END:VEVENT

END:VCALENDAR
