BEGIN:VCALENDAR
VERSION:2.0
PRODID:-//ChamberMaster//Event Calendar 2.0//EN
METHOD:PUBLISH
X-PUBLISHED-TTL:P3D
REFRESH-INTERVAL:P3D
CALSCALE:GREGORIAN
BEGIN:VEVENT
DTSTART:20151003T230000Z
DTEND:20151004T030000Z
X-MICROSOFT-CDO-ALLDAYEVENT:FALSE
SUMMARY:1960s Dance Party
DESCRIPTION:Vinyl Record Dance Party "Back to the 60s"\n\nDress in costume and bring your 8 tracks and LPs!\n\nTom Hughes\, Disc Jockey\n\nSilent Auction\n\nTankers Grill food available\, VFW cash bar
X-ALT-DESC;FMTTYPE=text/html:Vinyl Record Dance Party &quot\;Back to the 60s&quot\;<br />\nDress in costume and bring your 8 tracks and LPs!<br />\nTom Hughes\, Disc Jockey<br />\nSilent Auction<br />\nTankers Grill food available\, VFW cash bar
LOCATION:VFW Zumbro Falls
UID:e.621.4499
SEQUENCE:3
DTSTAMP:20260424T183152Z
URL:https://public.lakecity.org/events/details/1960s-dance-party-10-03-2015-4499
END:VEVENT

END:VCALENDAR
