BEGIN:VCALENDAR
VERSION:2.0
PRODID:-//ChamberMaster//Event Calendar 2.0//EN
METHOD:PUBLISH
X-PUBLISHED-TTL:P3D
REFRESH-INTERVAL:P3D
CALSCALE:GREGORIAN
BEGIN:VEVENT
DTSTART:20141004T130000Z
DTEND:20141004T170000Z
X-MICROSOFT-CDO-ALLDAYEVENT:FALSE
SUMMARY:1st Annual Kickin' Cancer 1K & 5K
DESCRIPTION:1st annual walk/run benefiting the American Cancer Society Relay for Life of Wabasha County. Walk/run in your cowboy boots & cowboy hat and let's "kick cancer"! Register at www.active.com.
X-ALT-DESC;FMTTYPE=text/html:1st annual walk/run benefiting the American Cancer Society Relay for Life of Wabasha County. Walk/run in your cowboy boots &amp\; cowboy hat and let&#39\;s &quot\;kick cancer&quot\;! Register at <a href="http://www.active.com">www.active.com</a>.
LOCATION:Underwood Park\, 10th Street North\, Lake City
UID:e.621.4282
SEQUENCE:3
DTSTAMP:20260425T112825Z
URL:https://public.lakecity.org/events/details/1st-annual-kickin-cancer-1k-5k-10-04-2014-4282
END:VEVENT

END:VCALENDAR
