BEGIN:VCALENDAR
VERSION:2.0
PRODID:-//ChamberMaster//Event Calendar 2.0//EN
METHOD:PUBLISH
X-PUBLISHED-TTL:P3D
REFRESH-INTERVAL:P3D
CALSCALE:GREGORIAN
BEGIN:VEVENT
DTSTART;VALUE=DATE:20151203
DTEND;VALUE=DATE:20151204
TRANSP:TRANSPARENT
X-MICROSOFT-CDO-ALLDAYEVENT:TRUE
SUMMARY:2016 Chamber Calendar (Internal)
DESCRIPTION:Click HERE to download our Chamber Member Calendar for 2016!
X-ALT-DESC;FMTTYPE=text/html:<a href="http://cloud.chambermaster.com/userfiles/UserFiles/chambers/621/File/Calendar11x7.pdf">Click HERE to download our Chamber Member Calendar for 2016!</a>
LOCATION:
UID:e.621.4532
SEQUENCE:3
DTSTAMP:20260424T134035Z
URL:https://public.lakecity.org/events/details/2016-chamber-calendar-internal-12-03-2015-4532
END:VEVENT

END:VCALENDAR
