BEGIN:VCALENDAR
VERSION:2.0
PRODID:-//ChamberMaster//Event Calendar 2.0//EN
METHOD:PUBLISH
X-PUBLISHED-TTL:P3D
REFRESH-INTERVAL:P3D
CALSCALE:GREGORIAN
BEGIN:VEVENT
DTSTART:20131219T143000Z
DTEND:20131219T193000Z
X-MICROSOFT-CDO-ALLDAYEVENT:FALSE
SUMMARY:20th Annual Holiday Cookie Walk
DESCRIPTION:Holiday Cookies!  $6 per pound\n\n	POSTER
X-ALT-DESC;FMTTYPE=text/html:<p>\n	Holiday Cookies!&nbsp\; $6 per pound<br />\n	<a href="http://cloud.chambermaster.com/userfiles/UserFiles/chambers/621/File/CookieWalk2013AD-1.pdf">POSTER</a></p>\n
LOCATION:Alliance Bank 105 E. Lyon Ave. Lake City\, MN 55041
UID:e.621.3418
SEQUENCE:3
DTSTAMP:20260426T042733Z
URL:https://public.lakecity.org/events/details/20th-annual-holiday-cookie-walk-12-19-2013-3418
END:VEVENT

END:VCALENDAR
