BEGIN:VCALENDAR
VERSION:2.0
PRODID:-//ChamberMaster//Event Calendar 2.0//EN
METHOD:PUBLISH
X-PUBLISHED-TTL:P3D
REFRESH-INTERVAL:P3D
CALSCALE:GREGORIAN
BEGIN:VEVENT
DTSTART:20151217T143000Z
DTEND:20151217T190000Z
X-MICROSOFT-CDO-ALLDAYEVENT:FALSE
SUMMARY:22nd Annual Holiday Cookie Walk
DESCRIPTION:Pick-up homemade holiday cookies and candy to share with family\, friends and co-workers. Only $7.00 per pound. Proceeds support projects sponsored by the Auxiluary at Mayo Clinic Health System In Lake City.
X-ALT-DESC;FMTTYPE=text/html:Pick-up homemade holiday cookies and candy to share with family\, friends and co-workers. Only $7.00 per pound. Proceeds support projects sponsored by the Auxiluary at Mayo Clinic Health System In Lake City.
LOCATION:Alliance Bank 105 E. Lyon Avenue
UID:e.621.4533
SEQUENCE:3
DTSTAMP:20260424T134218Z
URL:https://public.lakecity.org/events/details/22nd-annual-holiday-cookie-walk-12-17-2015-4533
END:VEVENT

END:VCALENDAR
