BEGIN:VCALENDAR
VERSION:2.0
PRODID:-//ChamberMaster//Event Calendar 2.0//EN
METHOD:PUBLISH
X-PUBLISHED-TTL:P3D
REFRESH-INTERVAL:P3D
CALSCALE:GREGORIAN
BEGIN:VEVENT
DTSTART:20161215T143000Z
DTEND:20161215T193000Z
X-MICROSOFT-CDO-ALLDAYEVENT:FALSE
SUMMARY:23rd Annual Holiday Cookie Walk
DESCRIPTION:Homemade holiday cookies and candy $7.00 per pound. Mayo Clinic Health System-Lake City Auxiliary
X-ALT-DESC;FMTTYPE=text/html:Homemade holiday cookies and candy $7.00 per pound. Mayo Clinic Health System-Lake City Auxiliary
LOCATION:Alliance Bank 105 E. Lyon Ave Lake City\, MN 55042
UID:e.621.5500
SEQUENCE:3
DTSTAMP:20260422T101425Z
URL:https://public.lakecity.org/events/details/23rd-annual-holiday-cookie-walk-5500
END:VEVENT

END:VCALENDAR
