BEGIN:VCALENDAR
VERSION:2.0
PRODID:-//ChamberMaster//Event Calendar 2.0//EN
METHOD:PUBLISH
X-PUBLISHED-TTL:P3D
REFRESH-INTERVAL:P3D
CALSCALE:GREGORIAN
BEGIN:VEVENT
DTSTART:20141005T020000Z
DTEND:20141005T020000Z
X-MICROSOFT-CDO-ALLDAYEVENT:FALSE
SUMMARY:3 on 3 Basketball Tournament
DESCRIPTION:Johnny Appleseed Festival 3 on 3 Basketball Tournament\n\nSponsored by Musty Barnhart and Hearth & Home Technologies\n\nEvery participant receives a FREE t-shirt!
X-ALT-DESC;FMTTYPE=text/html:Johnny Appleseed Festival 3 on 3 Basketball Tournament<br />\nSponsored by Musty Barnhart and Hearth &amp\; Home Technologies<br />\nEvery participant receives a FREE t-shirt!
LOCATION:Lincoln High School Gymnasium
UID:e.621.4292
SEQUENCE:3
DTSTAMP:20260425T112833Z
URL:https://public.lakecity.org/events/details/3-on-3-basketball-tournament-10-04-2014-4292
END:VEVENT

END:VCALENDAR
