BEGIN:VCALENDAR
VERSION:2.0
PRODID:-//ChamberMaster//Event Calendar 2.0//EN
METHOD:PUBLISH
X-PUBLISHED-TTL:P3D
REFRESH-INTERVAL:P3D
CALSCALE:GREGORIAN
BEGIN:VEVENT
DTSTART:20171107T230000Z
DTEND:20171108T010000Z
X-MICROSOFT-CDO-ALLDAYEVENT:FALSE
SUMMARY:30th Annual Chili Supper
DESCRIPTION:Please join us for our 30th Annual Chili Supper. Menu includes: chili\, buttered french bread\, dessert and beverage.
X-ALT-DESC;FMTTYPE=text/html:Please join us for our 30th Annual Chili Supper. Menu includes: chili\, buttered french bread\, dessert and beverage.
LOCATION:First Congregational Church 220 West Lyon Avenue Lake City\, MN 55041
UID:e.621.6792
SEQUENCE:3
DTSTAMP:20260421T151231Z
URL:https://public.lakecity.org/events/details/30th-annual-chili-supper-6792
END:VEVENT

END:VCALENDAR
