BEGIN:VCALENDAR
VERSION:2.0
PRODID:-//ChamberMaster//Event Calendar 2.0//EN
METHOD:PUBLISH
X-PUBLISHED-TTL:P3D
REFRESH-INTERVAL:P3D
CALSCALE:GREGORIAN
BEGIN:VEVENT
DTSTART;VALUE=DATE:20150626
DTEND;VALUE=DATE:20150629
TRANSP:TRANSPARENT
X-MICROSOFT-CDO-ALLDAYEVENT:TRUE
SUMMARY:44th Annual Water Ski Days
DESCRIPTION:Celebrating the invention of water skiing on Lake Pepin!  Best entertainment on Lake Pepin! Arts & Crafts Show\, grand parade on Sunday\, live music each night in the beer tent\, water ski show\, carnival rides\, bingo\, 5K & 10K runs\, classic car show\, and so much more!\n\n \n\nFor more info. visit:  www.lakecity.org/waterskidays.html
X-ALT-DESC;FMTTYPE=text/html:<div>Celebrating the invention of water skiing on Lake Pepin!&nbsp\; Best entertainment on Lake Pepin! Arts &amp\; Crafts Show\, grand parade on Sunday\, live music each night in the beer tent\, water ski show\, carnival rides\, bingo\, 5K &amp\; 10K runs\, classic car show\, and so much more!</div>\n\n<div>&nbsp\;</div>\n\n<div>For more info. visit:&nbsp\; <a href="http://www.lakecity.org/waterskidays.html">www.lakecity.org/waterskidays.html</a></div>\n
LOCATION:
UID:e.621.934
SEQUENCE:3
DTSTAMP:20260424T225424Z
URL:https://public.lakecity.org/events/details/44th-annual-water-ski-days-06-26-2015-934
END:VEVENT

END:VCALENDAR
