BEGIN:VCALENDAR
VERSION:2.0
PRODID:-//ChamberMaster//Event Calendar 2.0//EN
METHOD:PUBLISH
X-PUBLISHED-TTL:P3D
REFRESH-INTERVAL:P3D
CALSCALE:GREGORIAN
BEGIN:VEVENT
DTSTART:20170623T180000Z
DTEND:20170626T040000Z
X-MICROSOFT-CDO-ALLDAYEVENT:FALSE
SUMMARY:46th Annual Water Ski Days
DESCRIPTION:Water skiing was invented in Lake City in 1922 by Ralph Samuelson. Join us for our three-day event with fun for children and adults of all ages!
X-ALT-DESC;FMTTYPE=text/html:Water skiing was invented in Lake City in 1922 by Ralph Samuelson. Join us for our three-day event with fun for children and adults of all ages!
LOCATION:Lake City\, MN
UID:e.621.5732
SEQUENCE:3
DTSTAMP:20260421T232848Z
URL:https://public.lakecity.org/events/details/46th-annual-water-ski-days-5732
END:VEVENT

END:VCALENDAR
