BEGIN:VCALENDAR
VERSION:2.0
PRODID:-//ChamberMaster//Event Calendar 2.0//EN
METHOD:PUBLISH
X-PUBLISHED-TTL:P3D
REFRESH-INTERVAL:P3D
CALSCALE:GREGORIAN
BEGIN:VEVENT
DTSTART:20230424T170000Z
DTEND:20230622T150000Z
X-MICROSOFT-CDO-ALLDAYEVENT:FALSE
SUMMARY:50th WSD Presale (Info is listed as 2023)
DESCRIPTION:*THIS INFO IS FOR 2023. EG screwed up and edited 2022 instead of copying to new event. Guest list is for 2022 WSD Presale...*\n\n\n\nPresale tickets for 4 big nights of entertainment are on sale now for the 51st Annual Water Ski Days in beautiful Lake City! You don't want to miss this lineup!\n\n\n\n*Presale is open until June 22\, 2023 at 10:00am. \n\n*Every night requires purchasing a commenorative Water Ski Days button as a fundraiser to the Lake City Chamber of Commerce.\n\n*Button cost is x1 for $5 or x3 for $10. Available in June at local retailers and at entry gate to the event. \n\n\n\nThe Local Hooligans on Thursday *Free Kick-Off Night\n\nThe Fabulous Armadillos on Friday *$15\n\nLoud Mouth Brass and Roadhouse 6 opening for Dylan Marlowe on Saturday *$20\n\nDropped Pennies opening for The 4onthefloor on Sunday *$10\n\n\n\n\n\nBACK BY POPULAR DEMAND!! Buy a weekend all-access pass for only $40!\n\n\n\nPresale is open until June 22\, 2023 at 10:00am. \n\n\n\nThe events are rain or shine. Non-refundable and non-transferable.
X-ALT-DESC;FMTTYPE=text/html:<span style="font-size:18px\;"><strong><u>*THIS INFO IS FOR 2023. EG screwed up and edited 2022 instead of copying to new event. Guest list is for 2022 WSD Presale...*</u><br />\n<br />\n<span style="color:#FFA500\;">Presale tickets for 4 big nights of entertainment are on sale now for the 51st Annual Water Ski Days in beautiful Lake City! You don&#39\;t want to miss this lineup!</span></strong></span><br />\n<br />\n<span style="font-size:16px\;">*Presale is open until June 22\, 2023 at 10:00am.&nbsp\;<br />\n*Every night&nbsp\;<u><strong>requires</strong></u><strong>&nbsp\;</strong>purchasing a commenorative Water Ski Days button as a fundraiser to the&nbsp\;<a href="http://lakecity.org">Lake City Chamber of Commerce</a>.<br />\n*Button cost is x1 for $5 or x3 for $10. Available in June at local retailers and at entry gate to the event.&nbsp\;</span><br />\n<br />\n<em><span style="font-size:18px\;"><a font-size:="" href="https://www.facebook.com/TheLocalHooligans/" style="color: rgb(7\, 130\, 193)\; font-family: sans-serif\, Arial\, Verdana\, " trebuchet=""><span style="color:#FFA500\;">The Local Hooligans</span></a>&nbsp\;on Thursday *Free Kick-Off Night<br />\n<a href="https://www.fabulousarmadillos.com/"><span style="color:#FFA500\;">The Fabulous Armadillos</span></a><span style="color:#FFA500\;"> </span>on Friday *$15<br />\n<a href="https://www.mytownmymusic.com/local-artist-directory/loud-mouth-brass/"><span style="color:#FFA500\;">Loud Mouth Brass</span></a><span style="color:#FFA500\;"> </span>and&nbsp\;<a href="https://roadhouse6.com/"><span style="color:#FFA500\;">Roadhouse 6</span></a><span style="color:#FFA500\;"> </span>opening for <a href="https://www.dylanmarlowemusic.com/"><span style="color:#FFA500\;">Dylan Marlowe</span></a><span style="color:#FFA500\;"> </span>on Saturday *$20<br />\n<a href="https://www.facebook.com/people/Dropped-Pennies/100042339892002/"><span style="color:#FFA500\;">Dropped Pennies</span></a> opening for <a href="http://4otf.com/"><span style="color:#FFA500\;">The&nbsp\;4onthefloor</span>&nbsp\;</a>on Sunday *$10</span></em><br />\n<br />\n<br />\n<span style="font-size:22px\;"><strong>BACK BY POPULAR DEMAND!! Buy a weekend all-access pass for only $40!</strong></span><br />\n<br />\n<span style="font-size: 18px\;">Presale is open until June 22\, 2023 at 10:00am.&nbsp\;</span><br style="font-size: 18px\;" />\n<br style="font-size: 18px\;" />\n<u style="font-size: 18px\;"><strong>The events are rain or shine. Non-refundable and non-transferable.&nbsp\;</strong></u>
LOCATION:Ohuta Park 100 Park Street Lake City\, MN 55041
UID:e.621.8967
SEQUENCE:3
DTSTAMP:20260422T105313Z
URL:https://public.lakecity.org/events/details/50th-wsd-presale-info-is-listed-as-2023-8967
END:VEVENT

END:VCALENDAR
