BEGIN:VCALENDAR
VERSION:2.0
PRODID:-//ChamberMaster//Event Calendar 2.0//EN
METHOD:PUBLISH
X-PUBLISHED-TTL:P3D
REFRESH-INTERVAL:P3D
CALSCALE:GREGORIAN
BEGIN:VEVENT
DTSTART:20150822T213000Z
DTEND:20150823T003000Z
X-MICROSOFT-CDO-ALLDAYEVENT:FALSE
SUMMARY:7th Annual Bethany Block Party / Hog Roast
DESCRIPTION:THE ENTIRE COMMUNITY IS INVITED TO JOIN US FOR FUN!!! FOOD!!! FELLOWSHIP!!! FREE WILL OFFERING DOOR PRIZES Handicapped parking will also be available!!!
X-ALT-DESC;FMTTYPE=text/html:THE ENTIRE COMMUNITY IS INVITED TO JOIN US FOR FUN!!! FOOD!!! FELLOWSHIP!!! FREE WILL OFFERING DOOR PRIZES Handicapped parking will also be available!!!
LOCATION:In the Bethany Lutheran Church Parking Lot at 525 South 6th Street\, Lake City\, MN (to be held in Fellowship Hall if there is rain!)
UID:e.621.4454
SEQUENCE:3
DTSTAMP:20260424T213320Z
URL:https://public.lakecity.org/events/details/7th-annual-bethany-block-party-hog-roast-08-22-2015-4454
END:VEVENT

END:VCALENDAR
