BEGIN:VCALENDAR
VERSION:2.0
PRODID:-//ChamberMaster//Event Calendar 2.0//EN
METHOD:PUBLISH
X-PUBLISHED-TTL:P3D
REFRESH-INTERVAL:P3D
CALSCALE:GREGORIAN
BEGIN:VEVENT
DTSTART:20141122T160000Z
DTEND:20141122T200000Z
X-MICROSOFT-CDO-ALLDAYEVENT:FALSE
SUMMARY:A Brunch & Style Show
DESCRIPTION:St. Mary of the Lake presents a Brunch & Style Show\, brought to you by St. Mary's CCW and The Corner Closet! Come join us for a morning filled with accessories\, fashion\, and food!
X-ALT-DESC;FMTTYPE=text/html:St. Mary of the Lake presents a Brunch &amp\; Style Show\, brought to you by St. Mary&#39\;s CCW and The Corner Closet! Come join us for a morning filled with accessories\, fashion\, and food!
LOCATION:St. Mary of the Lake 419 West Lyon Ave. Lake City\, MN 55041
UID:e.621.4311
SEQUENCE:3
DTSTAMP:20260425T111450Z
URL:https://public.lakecity.org/events/details/a-brunch-style-show-11-22-2014-4311
END:VEVENT

END:VCALENDAR
