BEGIN:VCALENDAR
VERSION:2.0
PRODID:-//ChamberMaster//Event Calendar 2.0//EN
METHOD:PUBLISH
X-PUBLISHED-TTL:P3D
REFRESH-INTERVAL:P3D
CALSCALE:GREGORIAN
BEGIN:VEVENT
DTSTART:20151205T140000Z
DTEND:20151205T180000Z
X-MICROSOFT-CDO-ALLDAYEVENT:FALSE
SUMMARY:A Candy Cane Christmas
DESCRIPTION:Candy cane craft table\,hand sewn items\, Cookie walk-$6.00/pound\, Bake Sale\, Bucket Raffle\, Silent Auction\, Mission sewing quilts\, Rada Cutlery\, Chances on Christmas Pew. Serving coffee and treats. Sponsored by CCW Special attraction: Michael Augustin Sand Painter
X-ALT-DESC;FMTTYPE=text/html:Candy cane craft table\,hand sewn items\, Cookie walk-$6.00/pound\, Bake Sale\, Bucket Raffle\, Silent Auction\, Mission sewing quilts\, Rada Cutlery\, Chances on Christmas Pew. Serving coffee and treats. Sponsored by CCW Special attraction: Michael Augustin Sand Painter
LOCATION:St. Mary's of the Lake\, Lake City 419 W. Lyon Avenue
UID:e.621.4528
SEQUENCE:3
DTSTAMP:20260424T134036Z
URL:https://public.lakecity.org/events/details/a-candy-cane-christmas-12-05-2015-4528
END:VEVENT

END:VCALENDAR
