BEGIN:VCALENDAR
VERSION:2.0
PRODID:-//ChamberMaster//Event Calendar 2.0//EN
METHOD:PUBLISH
X-PUBLISHED-TTL:P3D
REFRESH-INTERVAL:P3D
CALSCALE:GREGORIAN
BEGIN:VEVENT
DTSTART:20131207T140000Z
DTEND:20131207T180000Z
X-MICROSOFT-CDO-ALLDAYEVENT:FALSE
SUMMARY:A French Christmas
DESCRIPTION:Joyeux Noel\n\nA French Christmas at St. Mary's of the Lake
X-ALT-DESC;FMTTYPE=text/html:<strong><em>Joyeux Noel</em></strong><br />\nA French Christmas at St. Mary&#39\;s of the Lake
LOCATION:St. Mary's Church Lyon and Garden Sts. Lake City
UID:e.621.3409
SEQUENCE:3
DTSTAMP:20260426T042836Z
URL:https://public.lakecity.org/events/details/a-french-christmas-12-07-2013-3409
END:VEVENT

END:VCALENDAR
