BEGIN:VCALENDAR
VERSION:2.0
PRODID:-//ChamberMaster//Event Calendar 2.0//EN
METHOD:PUBLISH
X-PUBLISHED-TTL:P3D
REFRESH-INTERVAL:P3D
CALSCALE:GREGORIAN
BEGIN:VEVENT
DTSTART:20180329T180000Z
DTEND:20180329T200000Z
X-MICROSOFT-CDO-ALLDAYEVENT:FALSE
SUMMARY:A Taste of History: Red Wing's Beer Brewing Past - and Future (21+)
DESCRIPTION:This winter\, we will offer a great lineup of classes in conjunction with Red Wing Community Education! To register for this class\, please call Community Education at 651.385.4565 Enjoy a History Happy Hour at the Red Wing Brewery! Co-owner Scott Kolby will participants through a history of Red Wing's beer industry and lead an engaging discussion which will feature artifacts\, photographs\, analysis\, and of course\, beer! Scott will also discuss how his business proudly continues Red Wing's brewing tradition. Participants will have the opportunity to sample three different historic beers   all brewed on site at the Red Wing Brewery.
X-ALT-DESC;FMTTYPE=text/html:This winter\, we will offer a great lineup of classes in conjunction with Red Wing Community Education! To register for this class\, please call Community Education at 651.385.4565 Enjoy a History Happy Hour at the Red Wing Brewery! Co-owner Scott Kolby will participants through a history of Red Wing&rsquo\;s beer industry and lead an engaging discussion which will feature artifacts\, photographs\, analysis\, and of course\, beer! Scott will also discuss how his business proudly continues Red Wing&rsquo\;s brewing tradition. Participants will have the opportunity to sample three different historic beers &ndash\; all brewed on site at the Red Wing Brewery.
LOCATION:Goodhue County History Center 1166 Oak Street Red Wing\, MN 55066
UID:e.621.6824
SEQUENCE:3
DTSTAMP:20260419T173811Z
URL:https://public.lakecity.org/events/details/a-taste-of-history-red-wing-s-beer-brewing-past-and-future-21-6824
END:VEVENT

END:VCALENDAR
