BEGIN:VCALENDAR
VERSION:2.0
PRODID:-//ChamberMaster//Event Calendar 2.0//EN
METHOD:PUBLISH
X-PUBLISHED-TTL:P3D
REFRESH-INTERVAL:P3D
CALSCALE:GREGORIAN
BEGIN:VEVENT
DTSTART:20140411T223000Z
DTEND:20140413T163000Z
X-MICROSOFT-CDO-ALLDAYEVENT:FALSE
SUMMARY:A Woman's Journey with God
DESCRIPTION:Villa Maria's first annual women's spirituality weekend.  This retreat will bring space into your life to focus on your own personal faith journey\, with dynamic presentations\, introduction to contemplation\, and outdoor experiences and rituals.  This weekend could be a time for you to explore personal journaling\, silent meditation\, massage and spiritual direction.  It is a time and space devoted to women of all ages and to women of all faiths.  Featured presenter-Sr. Pauline Lorch\, OSU.  "I am an Ursuline Sister in the very core of my being\, eager to share where the Lord is leading me."  For more information\, see our web site/events tab.
X-ALT-DESC;FMTTYPE=text/html:Villa Maria&#39\;s first annual women&#39\;s spirituality weekend.&nbsp\; This retreat will bring space into your life to focus on your own personal faith journey\, with dynamic presentations\, introduction to contemplation\, and outdoor experiences and rituals.&nbsp\; This weekend could be a time for you to explore personal journaling\, silent meditation\, massage and spiritual direction.&nbsp\; It is a time and space devoted to women of all ages and to women of all faiths.&nbsp\; Featured presenter-Sr. Pauline Lorch\, OSU.&nbsp\; &quot\;I am an Ursuline Sister in the very core of my being\, eager to share where the Lord is leading me.&quot\;&nbsp\; For more information\, see our web site/events tab.<br />\n<br type="_moz" />\n
LOCATION:Villa Maria Retreat and Conference Center
UID:e.621.3438
SEQUENCE:3
DTSTAMP:20260425T210214Z
URL:https://public.lakecity.org/events/details/a-woman-s-journey-with-god-04-11-2014-3438
END:VEVENT

END:VCALENDAR
