BEGIN:VCALENDAR
VERSION:2.0
PRODID:-//ChamberMaster//Event Calendar 2.0//EN
METHOD:PUBLISH
X-PUBLISHED-TTL:P3D
REFRESH-INTERVAL:P3D
CALSCALE:GREGORIAN
BEGIN:VEVENT
DTSTART:20150925T000000Z
DTEND:20150925T020000Z
X-MICROSOFT-CDO-ALLDAYEVENT:FALSE
SUMMARY:Abraham Lincoln's Minnesota Connections
DESCRIPTION:Dean Urdahl Will give a fascinating presentation about Abraham Lincoln's Minnesota connections. Representative Urdahl is a former American history teacher and author of several history books. This free event is sponsored by the Lake City Historical Society.
X-ALT-DESC;FMTTYPE=text/html:Dean Urdahl Will give a fascinating presentation about Abraham Lincoln&#39\;s Minnesota connections. Representative Urdahl is a former American history teacher and author of several history books. This free event is sponsored by the Lake City Historical Society.
LOCATION:Lake City City Hall Council Chambers
UID:e.621.4498
SEQUENCE:3
DTSTAMP:20260424T183319Z
URL:https://public.lakecity.org/events/details/abraham-lincoln-s-minnesota-connections-09-24-2015-4498
END:VEVENT

END:VCALENDAR
