BEGIN:VCALENDAR
VERSION:2.0
PRODID:-//ChamberMaster//Event Calendar 2.0//EN
METHOD:PUBLISH
X-PUBLISHED-TTL:P3D
REFRESH-INTERVAL:P3D
CALSCALE:GREGORIAN
BEGIN:VEVENT
DTSTART:20161006T233000Z
DTEND:20170505T003000Z
X-MICROSOFT-CDO-ALLDAYEVENT:FALSE
SUMMARY:Adult Book Club
DESCRIPTION:This book club is for adults ages 18 and over\, and it meets the first Thursday of each month. Our first book is The Night Circus by Erin Morgenstern. Copies are available to check out at the Lake City Public Library.
X-ALT-DESC;FMTTYPE=text/html:This book club is for adults ages 18 and over\, and it meets the first Thursday of each month. Our first book is The Night Circus by Erin Morgenstern. Copies are available to check out at the Lake City Public Library.
LOCATION:Lake City Public Library
UID:e.621.5466
SEQUENCE:3
DTSTAMP:20260422T011427Z
URL:https://public.lakecity.org/events/details/adult-book-club-5466
END:VEVENT

END:VCALENDAR
