BEGIN:VCALENDAR
VERSION:2.0
PRODID:-//ChamberMaster//Event Calendar 2.0//EN
METHOD:PUBLISH
X-PUBLISHED-TTL:P3D
REFRESH-INTERVAL:P3D
CALSCALE:GREGORIAN
BEGIN:VEVENT
DTSTART:20180217T160000Z
DTEND:20180217T170000Z
X-MICROSOFT-CDO-ALLDAYEVENT:FALSE
SUMMARY:African Storytelling
DESCRIPTION:As the cradle of the human race\, Africa is where storytelling began. This presentation will briefly highlight this fact and share some examples of this heritage\, including proverbs and folktales\, exploring their meanings and functions as an artistic tradition and a vehicle for moral and ethical education. Joseph L. Mbele will engage audiences during this program. Mbele is a professor in the English Department at St. Olaf College in Northfield\, MN. His offerings at St. Olaf focus on folklore and the connection between folklore and literature. He has conducted folklore fieldwork in Kenya\, Tanzania\, and the USA\, and he has given lectures and conference papers on folklore in Canada\, Finland\, India\, Israel\, Kenya\, Tanzania\, Uganda\, and the USA.
X-ALT-DESC;FMTTYPE=text/html:As the cradle of the human race\, Africa is where storytelling began. This presentation will briefly highlight this fact and share some examples of this heritage\, including proverbs and folktales\, exploring their meanings and functions as an artistic tradition and a vehicle for moral and ethical education. Joseph L. Mbele will engage audiences during this program. Mbele is a professor in the English Department at St. Olaf College in Northfield\, MN. His offerings at St. Olaf focus on folklore and the connection between folklore and literature. He has conducted folklore fieldwork in Kenya\, Tanzania\, and the USA\, and he has given lectures and conference papers on folklore in Canada\, Finland\, India\, Israel\, Kenya\, Tanzania\, Uganda\, and the USA.
LOCATION:Red Wing Public Library 225 East Avenue Red Wing\, MN 55066
UID:e.621.6817
SEQUENCE:3
DTSTAMP:20260421T100738Z
URL:https://public.lakecity.org/events/details/african-storytelling-6817
END:VEVENT

END:VCALENDAR
