BEGIN:VCALENDAR
VERSION:2.0
PRODID:-//ChamberMaster//Event Calendar 2.0//EN
METHOD:PUBLISH
X-PUBLISHED-TTL:P3D
REFRESH-INTERVAL:P3D
CALSCALE:GREGORIAN
BEGIN:VEVENT
DTSTART:20141004T030000Z
DTEND:20141004T210000Z
X-MICROSOFT-CDO-ALLDAYEVENT:FALSE
SUMMARY:American Legion Auxiliary Bake Sale
DESCRIPTION:American Legion Auxiliary Bake Sale
X-ALT-DESC;FMTTYPE=text/html:American Legion Auxiliary Bake Sale<br />\n<br />\n&nbsp\;
LOCATION:American Legion Club Rooms during Friends of the Library Book Sale
UID:e.621.4301
SEQUENCE:3
DTSTAMP:20260425T125035Z
URL:https://public.lakecity.org/events/details/american-legion-auxiliary-bake-sale-10-03-2014-4301
END:VEVENT

END:VCALENDAR
