BEGIN:VCALENDAR
VERSION:2.0
PRODID:-//ChamberMaster//Event Calendar 2.0//EN
METHOD:PUBLISH
X-PUBLISHED-TTL:P3D
REFRESH-INTERVAL:P3D
CALSCALE:GREGORIAN
BEGIN:VEVENT
DTSTART:20140816T223000Z
DTEND:20140817T010000Z
X-MICROSOFT-CDO-ALLDAYEVENT:FALSE
SUMMARY:American Legion Steak Fry
DESCRIPTION:Public invited!
X-ALT-DESC;FMTTYPE=text/html:Public invited!
LOCATION:Louis McCahill American Legion Post No. 110 224 S. Washington St. Lake City\, MN
UID:e.621.4258
SEQUENCE:3
DTSTAMP:20260425T142909Z
URL:https://public.lakecity.org/events/details/american-legion-steak-fry-08-16-2014-4258
END:VEVENT

END:VCALENDAR
