BEGIN:VCALENDAR
VERSION:2.0
PRODID:-//ChamberMaster//Event Calendar 2.0//EN
METHOD:PUBLISH
X-PUBLISHED-TTL:P3D
REFRESH-INTERVAL:P3D
CALSCALE:GREGORIAN
BEGIN:VEVENT
DTSTART:20131206T233000Z
DTEND:20131207T030000Z
X-MICROSOFT-CDO-ALLDAYEVENT:FALSE
SUMMARY:An Evening of Christmas Hope and Joy
DESCRIPTION:First Lutheran Church invites your whole family to\n\nA Women of Faith Event: An Evening of Christmas Hope and Joy\n\n\n\nSpecial Christmas event features a hearty soup buffet dinner followed by timeless messages and music by Pastor Max Lucado\, Sheila Walsh\, Lisa Harper\, Pastor Rick Warren\, and Francesca Battistelli. Bring new meaning to your Christmas season and celebrate the birth of Christ with us.
X-ALT-DESC;FMTTYPE=text/html:First Lutheran Church invites your whole family to<br />\n<strong>A Women of Faith Event: An Evening of Christmas Hope and Joy</strong><br />\n<br />\nSpecial Christmas event features a hearty soup buffet dinner followed by timeless messages and music by Pastor Max Lucado\, Sheila Walsh\, Lisa Harper\, Pastor Rick Warren\, and Francesca Battistelli. Bring new meaning to your Christmas season and celebrate the birth of Christ with us.
LOCATION:100 Peace Ridge Lake City\, MN 55041
UID:e.621.3410
SEQUENCE:3
DTSTAMP:20260426T042920Z
URL:https://public.lakecity.org/events/details/an-evening-of-christmas-hope-and-joy-12-06-2013-3410
END:VEVENT

END:VCALENDAR
