BEGIN:VCALENDAR
VERSION:2.0
PRODID:-//ChamberMaster//Event Calendar 2.0//EN
METHOD:PUBLISH
X-PUBLISHED-TTL:P3D
REFRESH-INTERVAL:P3D
CALSCALE:GREGORIAN
BEGIN:VEVENT
DTSTART:20140926T003000Z
DTEND:20140926T020000Z
X-MICROSOFT-CDO-ALLDAYEVENT:FALSE
SUMMARY:An Evening of Music with Movie Composer Mark McKenzie
DESCRIPTION:Lincoln graduate and movie composer Mark McKenzie returns for a free concert.\n\n\n\nPresented by the Lake City Music Boosters
X-ALT-DESC;FMTTYPE=text/html:Lincoln graduate and movie composer Mark McKenzie returns for a free concert.<br />\n<br />\nPresented by the Lake City Music Boosters
LOCATION:Lincoln HS Auditorium
UID:e.621.4297
SEQUENCE:3
DTSTAMP:20260425T125347Z
URL:https://public.lakecity.org/events/details/an-evening-of-music-with-movie-composer-mark-mckenzie-09-25-2014-4297
END:VEVENT

END:VCALENDAR
