BEGIN:VCALENDAR
VERSION:2.0
PRODID:-//ChamberMaster//Event Calendar 2.0//EN
METHOD:PUBLISH
X-PUBLISHED-TTL:P3D
REFRESH-INTERVAL:P3D
CALSCALE:GREGORIAN
BEGIN:VEVENT
DTSTART:20160917T153000Z
DTEND:20160917T173000Z
X-MICROSOFT-CDO-ALLDAYEVENT:FALSE
SUMMARY:An Orphan Train Experience
DESCRIPTION:Renee Wendinger\, author and historian\, will present information on the orphan train riders and newsboys of New York of the early 20th century. Anyone interested on the topic can also check out her books\, which are available at the Lake City Public Library.
X-ALT-DESC;FMTTYPE=text/html:Renee Wendinger\, author and historian\, will present information on the orphan train riders and newsboys of New York of the early 20th century. Anyone interested on the topic can also check out her books\, which are available at the Lake City Public Library.
LOCATION:City Hall Ballroom 205 W. Center Street Lake City\, MN
UID:e.621.5421
SEQUENCE:3
DTSTAMP:20260422T130656Z
URL:https://public.lakecity.org/events/details/an-orphan-train-experience-09-17-2016-5421
END:VEVENT

END:VCALENDAR
