BEGIN:VCALENDAR
VERSION:2.0
PRODID:-//ChamberMaster//Event Calendar 2.0//EN
METHOD:PUBLISH
X-PUBLISHED-TTL:P3D
REFRESH-INTERVAL:P3D
CALSCALE:GREGORIAN
BEGIN:VEVENT
DTSTART:20170321T233000Z
DTEND:20170322T020000Z
X-MICROSOFT-CDO-ALLDAYEVENT:FALSE
SUMMARY:Anna B. Underwood: Pioneer Orchardist of Minnesota
DESCRIPTION:A lively program highlighting Anna Bingham Underwood\, one of the most influential women in Lake City's history.
X-ALT-DESC;FMTTYPE=text/html:A lively program highlighting Anna Bingham Underwood\, one of the most influential women in Lake City&#39\;s history.
LOCATION:Lake City Public Library
UID:e.621.5688
SEQUENCE:3
DTSTAMP:20260422T055905Z
URL:https://public.lakecity.org/events/details/anna-b-underwood-pioneer-orchardist-of-minnesota-5688
END:VEVENT

END:VCALENDAR
