BEGIN:VCALENDAR
VERSION:2.0
PRODID:-//ChamberMaster//Event Calendar 2.0//EN
METHOD:PUBLISH
X-PUBLISHED-TTL:P3D
REFRESH-INTERVAL:P3D
CALSCALE:GREGORIAN
BEGIN:VEVENT
DTSTART:20160126T233000Z
DTEND:20160127T020000Z
X-MICROSOFT-CDO-ALLDAYEVENT:FALSE
SUMMARY:Annual Meeting & Banquet
DESCRIPTION:What?\n\n \n\nJoin us for the 2015 Lake City Chamber of Commerce Annual Meeting & Banquet.  We will celebrate our members\, look back on the year's accomplishments and look forward to the year ahead.\n \n\nThis year's theme is\, "Hats off to our members!"  Wear a hat that represents your business and be entered into a prize drawing!\n\n \n\n\n	\n		\n			\n			Where?\n\n			 \n\n			Mount Frontenac Golf Course\n\n			32420 Ski Road\n\n			Frontenac\, MN 55026\n\n			 \n			\n		\n	\n\n\n\n	\n		\n			\n			When?\n\n			 \n\n			Tuesday January 26\, 2016\n\n			5:30 - Social Hour\n\n			6:30 - Dinner\n\n			7:00 - Program\n\n			 \n			\n		\n	\n\n\n\n	\n		\n			\n			Menu?\n\n			 \n\n			\n			Dinner includes a choice of Champagne Chicken or Roast Beef\, Baby Red Potatoes\, California Vegetable Melody\, and Side Salad.\n\n			 \n			\n			\n		\n	\n\n\n\n	\n		\n			\n			Cost?\n\n			 \n\n			The price is $20 per person in advance\, and $25 per person at the door.  Space is limited\, so please RSVP by Tuesday January 19\, 2016.
X-ALT-DESC;FMTTYPE=text/html:<div class="ArticleHeadlineText" style="color: rgb(50\, 50\, 50)\; font-family: Georgia\,Times New Roman\,Times\,serif\; font-size: 14pt\; font-style: italic\; font-weight: bold\;">What?</div>\n\n<div class="ArticleHeadlineText" style="color: rgb(50\, 50\, 50)\; font-family: Georgia\,Times New Roman\,Times\,serif\; font-size: 14pt\; font-style: italic\; font-weight: bold\;">&nbsp\;</div>\n\n<div>Join us for the 2015 Lake City Chamber of Commerce Annual Meeting &amp\; Banquet.&nbsp\; We will celebrate our members\, look back on the year&#39\;s accomplishments and look forward to the year ahead.</div>\n&nbsp\;\n\n<div>This year&#39\;s theme is\, &quot\;Hats off to our members!&quot\;&nbsp\; Wear a hat that represents your business and be entered into a prize drawing!</div>\n\n<div>&nbsp\;</div>\n\n<table border="0" cellpadding="0" cellspacing="0" id="content_LETTER.BLOCK26" width="100%">\n	<tbody>\n		<tr>\n			<td align="left" class="ArticlePadding MainText" colspan="1" rowspan="1" style="padding: 8px 20px 9px\; color: rgb(50\, 50\, 50)\; font-family: Verdana\,Geneva\,Arial\,Helvetica\,sans-serif\; font-size: 11pt\;" valign="top">\n			<div class="ArticleHeadlineText" style="color: rgb(50\, 50\, 50)\; font-family: Georgia\,Times New Roman\,Times\,serif\; font-size: 14pt\; font-style: italic\; font-weight: bold\;">Where?</div>\n\n			<div class="ArticleHeadlineText" style="color: rgb(50\, 50\, 50)\; font-family: Georgia\,Times New Roman\,Times\,serif\; font-size: 14pt\; font-style: italic\; font-weight: bold\;">&nbsp\;</div>\n\n			<div>Mount Frontenac Golf Course</div>\n\n			<div><span>32420 Ski Road</span></div>\n\n			<div><span>Frontenac\, MN 55026</span></div>\n\n			<div><span>&nbsp\;</span></div>\n			</td>\n		</tr>\n	</tbody>\n</table>\n\n<table border="0" cellpadding="0" cellspacing="0" id="content_LETTER.BLOCK27" width="100%">\n	<tbody>\n		<tr>\n			<td align="left" class="ArticlePadding MainText" colspan="1" rowspan="1" style="padding: 8px 20px 9px\; color: rgb(50\, 50\, 50)\; font-family: Verdana\,Geneva\,Arial\,Helvetica\,sans-serif\; font-size: 11pt\;" valign="top">\n			<div class="ArticleHeadlineText" style="color: rgb(50\, 50\, 50)\; font-family: Georgia\,Times New Roman\,Times\,serif\; font-size: 14pt\; font-style: italic\; font-weight: bold\;">When?</div>\n\n			<div class="ArticleHeadlineText" style="color: rgb(50\, 50\, 50)\; font-family: Georgia\,Times New Roman\,Times\,serif\; font-size: 14pt\; font-style: italic\; font-weight: bold\;">&nbsp\;</div>\n\n			<div>Tuesday January 26\, 2016</div>\n\n			<div>5:30 - Social Hour</div>\n\n			<div>6:30 - Dinner</div>\n\n			<div>7:00 - Program</div>\n\n			<div>&nbsp\;</div>\n			</td>\n		</tr>\n	</tbody>\n</table>\n\n<table border="0" cellpadding="0" cellspacing="0" id="content_LETTER.BLOCK38" width="100%">\n	<tbody>\n		<tr>\n			<td align="left" class="ArticlePadding MainText" colspan="1" rowspan="1" style="padding: 8px 20px 9px\; color: rgb(50\, 50\, 50)\; font-family: Verdana\,Geneva\,Arial\,Helvetica\,sans-serif\; font-size: 11pt\;" valign="top">\n			<div class="ArticleHeadlineText" style="color: rgb(50\, 50\, 50)\; font-family: Georgia\,Times New Roman\,Times\,serif\; font-size: 14pt\; font-style: italic\; font-weight: bold\;">Menu?</div>\n\n			<div class="ArticleHeadlineText" style="color: rgb(50\, 50\, 50)\; font-family: Georgia\,Times New Roman\,Times\,serif\; font-size: 14pt\; font-style: italic\; font-weight: bold\;">&nbsp\;</div>\n\n			<div>\n			<div><span>Dinner includes a choice of Champagne </span><span>Chicken or Roast Beef\, Baby Red Potatoes\, California Vegetable Melody\, and Side Salad.</span></div>\n\n			<div><span>&nbsp\;</span></div>\n			</div>\n			</td>\n		</tr>\n	</tbody>\n</table>\n\n<table border="0" cellpadding="0" cellspacing="0" id="content_LETTER.BLOCK37" width="100%">\n	<tbody>\n		<tr>\n			<td align="left" class="ArticlePadding MainText" colspan="1" rowspan="1" style="padding: 8px 20px 9px\; color: rgb(50\, 50\, 50)\; font-family: Verdana\,Geneva\,Arial\,Helvetica\,sans-serif\; font-size: 11pt\;" valign="top">\n			<div class="ArticleHeadlineText" style="color: rgb(50\, 50\, 50)\; font-family: Georgia\,Times New Roman\,Times\,serif\; font-size: 14pt\; font-style: italic\; font-weight: bold\;">Cost?</div>\n\n			<div class="ArticleHeadlineText" style="color: rgb(50\, 50\, 50)\; font-family: Georgia\,Times New Roman\,Times\,serif\; font-size: 14pt\; font-style: italic\; font-weight: bold\;">&nbsp\;</div>\n\n			<div>The price is $20 per person in advance\, and $25 per person at the door.&nbsp\; Space is limited\, so please RSVP by Tuesday January 19\, 2016.</div>\n			</td>\n		</tr>\n	</tbody>\n</table>\n
LOCATION:
UID:e.621.4536
SEQUENCE:3
DTSTAMP:20260424T121536Z
URL:https://public.lakecity.org/events/details/annual-meeting-banquet-01-26-2016-4536
END:VEVENT

END:VCALENDAR
