BEGIN:VCALENDAR
VERSION:2.0
PRODID:-//ChamberMaster//Event Calendar 2.0//EN
METHOD:PUBLISH
X-PUBLISHED-TTL:P3D
REFRESH-INTERVAL:P3D
CALSCALE:GREGORIAN
BEGIN:VEVENT
DTSTART;VALUE=DATE:20170126
DTEND;VALUE=DATE:20170127
TRANSP:TRANSPARENT
X-MICROSOFT-CDO-ALLDAYEVENT:TRUE
SUMMARY:Annual Report 2016
DESCRIPTION:View the 2016 Annual Report HERE.
X-ALT-DESC;FMTTYPE=text/html:View the 2016 Annual Report <a href="https://chambermaster.blob.core.windows.net/userfiles/UserFiles/chambers/621/File/FINALAnnualReport.pdf">HERE.</a>
LOCATION:
UID:e.621.5657
SEQUENCE:3
DTSTAMP:20260422T070759Z
URL:https://public.lakecity.org/events/details/annual-report-2016-5657
END:VEVENT

END:VCALENDAR
