BEGIN:VCALENDAR
VERSION:2.0
PRODID:-//ChamberMaster//Event Calendar 2.0//EN
METHOD:PUBLISH
X-PUBLISHED-TTL:P3D
REFRESH-INTERVAL:P3D
CALSCALE:GREGORIAN
BEGIN:VEVENT
DTSTART:20170917T180000Z
DTEND:20170917T210000Z
X-MICROSOFT-CDO-ALLDAYEVENT:FALSE
SUMMARY:Antique Roadshow
DESCRIPTION:Greg and Deb Schreck will be present to evaluate treasures and collectibles.
X-ALT-DESC;FMTTYPE=text/html:Greg and&nbsp\;Deb Schreck will be present to evaluate treasures and collectibles.
LOCATION:Wabasha County Historical Society School Museum Reads Landing\, MN
UID:e.621.5754
SEQUENCE:3
DTSTAMP:20260421T183450Z
URL:https://public.lakecity.org/events/details/antique-roadshow-5754
END:VEVENT

END:VCALENDAR
