BEGIN:VCALENDAR
VERSION:2.0
PRODID:-//ChamberMaster//Event Calendar 2.0//EN
METHOD:PUBLISH
X-PUBLISHED-TTL:P3D
REFRESH-INTERVAL:P3D
CALSCALE:GREGORIAN
BEGIN:VEVENT
DTSTART:20140517T120000Z
DTEND:20140517T170000Z
X-MICROSOFT-CDO-ALLDAYEVENT:FALSE
SUMMARY:Anytime Fitness and Lake Pepin Pet Clinic 5k-9 Run/Walk
DESCRIPTION:5K-9 Run/Walk\n\nSupporting Hiawatha Animal Humane Society\n\nProduced by Anytime Fitness and Lake Pepin Pet Clinic\n\n\n\nAll participants receive a T-shirt and dog bandana\n\nAll proceeds go to Hiawatha Animal Humane Society
X-ALT-DESC;FMTTYPE=text/html:5K-9 Run/Walk<br />\nSupporting Hiawatha Animal Humane Society<br />\nProduced by Anytime Fitness and Lake Pepin Pet Clinic<br />\n<br />\nAll participants receive a T-shirt and dog bandana<br />\nAll proceeds go to Hiawatha Animal Humane Society
LOCATION:Anytime Fitness 1205 N. 7th St.\, Lake City
UID:e.621.4007
SEQUENCE:3
DTSTAMP:20260425T192228Z
URL:https://public.lakecity.org/events/details/anytime-fitness-and-lake-pepin-pet-clinic-5k-9-run-walk-05-17-2014-4007
END:VEVENT

END:VCALENDAR
