BEGIN:VCALENDAR
VERSION:2.0
PRODID:-//ChamberMaster//Event Calendar 2.0//EN
METHOD:PUBLISH
X-PUBLISHED-TTL:P3D
REFRESH-INTERVAL:P3D
CALSCALE:GREGORIAN
BEGIN:VEVENT
DTSTART:20150406T233000Z
DTEND:20150407T010000Z
X-MICROSOFT-CDO-ALLDAYEVENT:FALSE
SUMMARY:April Spark
DESCRIPTION:Come join Spark for a spring fashion show. Deb Lane\, new owner of Corner Closet\, will present a colorful and fun array of spring styles available at her store.\n\n\n\nAll women are welcome at Spark!! If you are interested in being a model for the fashion show\, please stop in at Corner Closet and talk to Deb.\n\n\n\nClick to register!
X-ALT-DESC;FMTTYPE=text/html:<span style="font-size: medium\;"><span style="font-family: calibri\;">Come join Spark&nbsp\;for a&nbsp\;spring fashion show. Deb Lane\, new owner of Corner Closet\, will present a colorful and fun array of spring styles available at her store.</span></span><br />\n<br />\n<span style="font-size: medium\;"><span style="font-family: calibri\;">All women are welcome at Spark!! If you are interested in being a model for the fashion show\, please stop in at Corner Closet and talk to Deb.</span></span><br />\n<br />\n<span style="font-size: medium\;"><span style="font-family: calibri\;">Click to register!&nbsp\; </span></span>
LOCATION:Port 104 104 N Washington Street Lake City\, MN 55066
UID:e.621.4404
SEQUENCE:3
DTSTAMP:20260425T014700Z
URL:https://public.lakecity.org/events/details/april-spark-04-06-2015-4404
END:VEVENT

END:VCALENDAR
