BEGIN:VCALENDAR
VERSION:2.0
PRODID:-//ChamberMaster//Event Calendar 2.0//EN
METHOD:PUBLISH
X-PUBLISHED-TTL:P3D
REFRESH-INTERVAL:P3D
CALSCALE:GREGORIAN
BEGIN:VEVENT
DTSTART:20211127T180000Z
DTEND:20211127T210000Z
X-MICROSOFT-CDO-ALLDAYEVENT:FALSE
SUMMARY:Art and History Exhibit
DESCRIPTION:Lake City Area Arts\n\n"Military: USA Pride" Exhibit will be held 11/27 & 11/28th. Saturday Noon to 3 pm and Sunday 1pm to 3 pm LCAA donates its sales commissions to the local VFW and Legion.  Please support our local veterans organizations.
X-ALT-DESC;FMTTYPE=text/html:<span id="docs-internal-guid-7dfe74a9-7fff-8fab-2e85-dcca11f40852"><span style="font-size: 11pt\; font-family: Arial\; color: rgb(0\, 0\, 0)\; background-color: transparent\; font-variant-numeric: normal\; font-variant-east-asian: normal\; vertical-align: baseline\; white-space: pre-wrap\;"><u><strong>Lake City Area Arts</strong></u><br />\n&ldquo\;Military: USA Pride&rdquo\; Exhibit will be held 11/27 &amp\; 11/28th. Saturday Noon to 3 pm and Sunday 1pm to 3 pm&mdash\;LCAA donates its sales commissions to the local VFW and Legion.&nbsp\; Please support our local veterans organizations.</span></span>
LOCATION:
UID:e.621.8283
SEQUENCE:3
DTSTAMP:20260424T083719Z
URL:https://public.lakecity.org/events/details/art-and-history-exhibit-8283
END:VEVENT

END:VCALENDAR
