BEGIN:VCALENDAR
VERSION:2.0
PRODID:-//ChamberMaster//Event Calendar 2.0//EN
METHOD:PUBLISH
X-PUBLISHED-TTL:P3D
REFRESH-INTERVAL:P3D
CALSCALE:GREGORIAN
BEGIN:VEVENT
DTSTART:20211128T190000Z
DTEND:20211128T210000Z
X-MICROSOFT-CDO-ALLDAYEVENT:FALSE
SUMMARY:Art and History Exhibit
DESCRIPTION:Lake City Area Arts\n\n\n\nArt and History Exhibit-"Military: USA Pride" Exhibit will be held 11/27 & 11/28th. Saturday Noon to 3 pm and Sunday 1pm to 3 pm LCAA donates its sales commissions to the local VFW and Legion.  Please support our local veterans organizations.
X-ALT-DESC;FMTTYPE=text/html:<u><strong>Lake City Area Arts</strong></u><br />\n<br />\n<span id="docs-internal-guid-32ccf7bc-7fff-b00b-ee59-44c1c10d4893"><span style="font-size: 11pt\; font-family: Arial\; color: rgb(0\, 0\, 0)\; background-color: transparent\; font-weight: 700\; font-variant-numeric: normal\; font-variant-east-asian: normal\; vertical-align: baseline\; white-space: pre-wrap\;">Art and History Exhibit-</span><span style="font-size: 11pt\; font-family: Arial\; color: rgb(0\, 0\, 0)\; background-color: transparent\; font-variant-numeric: normal\; font-variant-east-asian: normal\; vertical-align: baseline\; white-space: pre-wrap\;">&ldquo\;Military: USA Pride&rdquo\; Exhibit will be held 11/27 &amp\; 11/28th. Saturday Noon to 3 pm and Sunday 1pm to 3 pm&mdash\;LCAA donates its sales commissions to the local VFW and Legion.&nbsp\; Please support our local veterans organizations.</span></span>
LOCATION:
UID:e.621.8284
SEQUENCE:3
DTSTAMP:20260423T181622Z
URL:https://public.lakecity.org/events/details/art-and-history-exhibit-8284
END:VEVENT

END:VCALENDAR
