BEGIN:VCALENDAR
VERSION:2.0
PRODID:-//ChamberMaster//Event Calendar 2.0//EN
METHOD:PUBLISH
X-PUBLISHED-TTL:P3D
REFRESH-INTERVAL:P3D
CALSCALE:GREGORIAN
BEGIN:VEVENT
DTSTART:20170625T140000Z
DTEND:20170625T220000Z
X-MICROSOFT-CDO-ALLDAYEVENT:FALSE
SUMMARY:Arts & Craft Show - Water Ski Days
DESCRIPTION:Join us for the Arts and Craft Show located in Patton Park with more than 60 vendors. A list of vendors will be posted at Patton Park.
X-ALT-DESC;FMTTYPE=text/html:Join us for the Arts and Craft Show located in Patton Park with more than 60 vendors. A list of vendors will be posted at Patton Park.
LOCATION:Patton Park
UID:e.621.5736
SEQUENCE:3
DTSTAMP:20260422T010859Z
URL:https://public.lakecity.org/events/details/arts-craft-show-water-ski-days-5736
END:VEVENT

END:VCALENDAR
