BEGIN:VCALENDAR
VERSION:2.0
PRODID:-//ChamberMaster//Event Calendar 2.0//EN
METHOD:PUBLISH
X-PUBLISHED-TTL:P3D
REFRESH-INTERVAL:P3D
CALSCALE:GREGORIAN
BEGIN:VEVENT
DTSTART:20220825T223000Z
DTEND:20220826T000000Z
X-MICROSOFT-CDO-ALLDAYEVENT:FALSE
SUMMARY:August Business After Hours
DESCRIPTION:This month Chamber staff\, ambassadors\, and board members invite you to Business After Hours at the Chamber!\n\nWe'll be gathering at our centrally located downtown office for an early evening of food\, beverages\, networking\, drawings\, and most of all\, fun!\n\nD on't miss this event\, scheduled for Thursday\, August 25th from 5:30-7:30pm!\n\nGet engaged with your peers and find out what's cooking' in Lake City.
X-ALT-DESC;FMTTYPE=text/html:<span style="color: rgb(5\, 5\, 5)\; font-family: &quot\;Segoe UI Historic&quot\;\, &quot\;Segoe UI&quot\;\, Helvetica\, Arial\, sans-serif\; font-size: 15px\;">This month Chamber staff\, ambassadors\, and board members invite you to Business After Hours at the Chamber!</span><br style="color: rgb(5\, 5\, 5)\; font-family: &quot\;Segoe UI Historic&quot\;\, &quot\;Segoe UI&quot\;\, Helvetica\, Arial\, sans-serif\; font-size: 15px\;" />\n<span style="color: rgb(5\, 5\, 5)\; font-family: &quot\;Segoe UI Historic&quot\;\, &quot\;Segoe UI&quot\;\, Helvetica\, Arial\, sans-serif\; font-size: 15px\;">We&#39\;ll be gathering at our centrally located downtown office for an early evening of food\, beverages\, networking\, drawings\, and most of all\, fun!</span><br style="color: rgb(5\, 5\, 5)\; font-family: &quot\;Segoe UI Historic&quot\;\, &quot\;Segoe UI&quot\;\, Helvetica\, Arial\, sans-serif\; font-size: 15px\;" />\n<span style="color: rgb(5\, 5\, 5)\; font-family: &quot\;Segoe UI Historic&quot\;\, &quot\;Segoe UI&quot\;\, Helvetica\, Arial\, sans-serif\; font-size: 15px\;">D&#65279\;on&#39\;t miss this event\, scheduled for Thursday\, August 25th from 5:30-7:30pm!</span><br style="color: rgb(5\, 5\, 5)\; font-family: &quot\;Segoe UI Historic&quot\;\, &quot\;Segoe UI&quot\;\, Helvetica\, Arial\, sans-serif\; font-size: 15px\;" />\n<span style="color: rgb(5\, 5\, 5)\; font-family: &quot\;Segoe UI Historic&quot\;\, &quot\;Segoe UI&quot\;\, Helvetica\, Arial\, sans-serif\; font-size: 15px\;">Get engaged with your peers and find out what&#39\;s cooking&#39\; in Lake City.</span>
LOCATION:Chamber of Commerce Office 100 E Lyon Ave Lake City\, MN 55041
UID:e.621.9002
SEQUENCE:3
DTSTAMP:20260423T020826Z
URL:https://public.lakecity.org/events/details/august-business-after-hours-9002
END:VEVENT

END:VCALENDAR
