BEGIN:VCALENDAR
VERSION:2.0
PRODID:-//ChamberMaster//Event Calendar 2.0//EN
METHOD:PUBLISH
X-PUBLISHED-TTL:P3D
REFRESH-INTERVAL:P3D
CALSCALE:GREGORIAN
BEGIN:VEVENT
DTSTART:20160116T163000Z
DTEND:20160116T180000Z
X-MICROSOFT-CDO-ALLDAYEVENT:FALSE
SUMMARY:Author - Faith Sullivan
DESCRIPTION:The Lake City Public Library will host Minnesota author Faith Sullivan\, who's most recent book\, Good Night\, Mr. Wodehouse" was named one of the top 10 fiction books of 2015 by the Wall Street Journal.
X-ALT-DESC;FMTTYPE=text/html:The Lake City Public Library will host Minnesota author Faith Sullivan\, who&#39\;s most recent book\, Good Night\, Mr. Wodehouse&quot\; was named one of the top 10 fiction books of 2015 by the Wall Street Journal.
LOCATION:City Hall Ballroom
UID:e.621.4537
SEQUENCE:3
DTSTAMP:20260424T120253Z
URL:https://public.lakecity.org/events/details/author-faith-sullivan-01-16-2016-4537
END:VEVENT

END:VCALENDAR
