BEGIN:VCALENDAR
VERSION:2.0
PRODID:-//ChamberMaster//Event Calendar 2.0//EN
METHOD:PUBLISH
X-PUBLISHED-TTL:P3D
REFRESH-INTERVAL:P3D
CALSCALE:GREGORIAN
BEGIN:VEVENT
DTSTART:20140911T150000Z
DTEND:20140914T210000Z
X-MICROSOFT-CDO-ALLDAYEVENT:FALSE
SUMMARY:AUTUMNFEST at Mill House Market
DESCRIPTION:2nd Annual AUTUMNFEST at Mill House Market! Shop primitives\, Junk Market\, Vintage finds\, home d cor\, hand made one-of-a-kinds and more! "DOUBLE" market money during Autumnfest (receive $2.00 in Market Money for every $10.00 you spend.) Giving away 4 - $25.00 gift certificates!
X-ALT-DESC;FMTTYPE=text/html:2nd Annual AUTUMNFEST at Mill House Market! Shop primitives\, Junk Market\, Vintage finds\, home d&eacute\;cor\, hand made one-of-a-kinds and more! &quot\;DOUBLE&quot\; market money during Autumnfest (receive $2.00 in Market Money for every $10.00 you spend.) Giving away 4 - $25.00 gift certificates!
LOCATION:130 S Washington St. Lake City\, MN 55041
UID:e.621.4291
SEQUENCE:3
DTSTAMP:20260425T125142Z
URL:https://public.lakecity.org/events/details/autumnfest-at-mill-house-market-09-11-2014-4291
END:VEVENT

END:VCALENDAR
