BEGIN:VCALENDAR
VERSION:2.0
PRODID:-//ChamberMaster//Event Calendar 2.0//EN
METHOD:PUBLISH
X-PUBLISHED-TTL:P3D
REFRESH-INTERVAL:P3D
CALSCALE:GREGORIAN
BEGIN:VEVENT
DTSTART:20140427T000000Z
DTEND:20140427T020000Z
X-MICROSOFT-CDO-ALLDAYEVENT:FALSE
SUMMARY:Auxiliary at Mayo Clinic Health System presents Kaleidoscope of Stars
DESCRIPTION:Auxiliary at Mayo Clinic Health System presents  Kaleidoscope of Stars\n\nThird bi-annual variety show featuring local talent\n\nAll proceeds benefit "Adopt a Room"\, the next phase of Life Matters Here
X-ALT-DESC;FMTTYPE=text/html:<span style="font-size: medium\;"><span style="font-family: times new roman\;">Auxiliary at Mayo Clinic Health System presents&nbsp\; Kaleidoscope of Stars</span></span><br />\n<span style="font-size: medium\;"><span style="font-family: times new roman\;">Third bi-annual variety show featuring local talent</span></span><br />\n<span style="font-size: medium\;"><span style="font-family: times new roman\;">All proceeds benefit &quot\;Adopt a Room&quot\;\, the next phase of Life Matters Here</span></span><br />\n&nbsp\;
LOCATION:Lincoln High School Auditorium 300 S. Garden St. Lake City\, MN 55041
UID:e.621.3596
SEQUENCE:3
DTSTAMP:20260425T223458Z
URL:https://public.lakecity.org/events/details/auxiliary-at-mayo-clinic-health-system-presents-kaleidoscope-of-stars-04-26-2014-3596
END:VEVENT

END:VCALENDAR
