BEGIN:VCALENDAR
VERSION:2.0
PRODID:-//ChamberMaster//Event Calendar 2.0//EN
METHOD:PUBLISH
X-PUBLISHED-TTL:P3D
REFRESH-INTERVAL:P3D
CALSCALE:GREGORIAN
BEGIN:VEVENT
DTSTART:20160416T140000Z
DTEND:20160416T190000Z
X-MICROSOFT-CDO-ALLDAYEVENT:FALSE
SUMMARY:Auxiliary Spring Bake Sale
DESCRIPTION:Auxiliary Spring Bake Sale at the VFW on Saturday\, April 16th from 9am - 2pm (or until the goodies are gone). Lunch will be available starting at 11am.
X-ALT-DESC;FMTTYPE=text/html:Auxiliary Spring Bake Sale at the VFW on Saturday\, April 16th from 9am - 2pm (or until the goodies are gone). Lunch will be available starting at 11am.
LOCATION:VFW
UID:e.621.5226
SEQUENCE:3
DTSTAMP:20260422T195812Z
URL:https://public.lakecity.org/events/details/auxiliary-spring-bake-sale-04-16-2016-5226
END:VEVENT

END:VCALENDAR
