BEGIN:VCALENDAR
VERSION:2.0
PRODID:-//ChamberMaster//Event Calendar 2.0//EN
METHOD:PUBLISH
X-PUBLISHED-TTL:P3D
REFRESH-INTERVAL:P3D
CALSCALE:GREGORIAN
BEGIN:VEVENT
DTSTART;VALUE=DATE:20150425
DTEND;VALUE=DATE:20150426
TRANSP:TRANSPARENT
X-MICROSOFT-CDO-ALLDAYEVENT:TRUE
SUMMARY:Backyard Brushes & Washington Street Arts
DESCRIPTION:In addition to all of the Girl's Day Out activities\, the Washington Street Arts is partnering with Backyard Brushes to hold painting sessions for you and your friends.  There will be two opportunities to join in the fun\, one at 10:00am and the second at 2:00\,pm both at the Lake City American Legion. Tickets are available at Treats and Treasures for $30.00 or call 651-345-2882 to make a reservation.  \n\n\n\nBudding artists ages 10 to 18 are welcome at both sessions and will receive a $5.00 discount.  Samples of the paintings may be seen at Treats and Treasures or visit The Washington Street Experience on Facebook.
X-ALT-DESC;FMTTYPE=text/html:In addition to all of the Girl&#39\;s Day Out activities\, the <span style="font-size: 11pt\;"><span style="font-family: calibri\,sans-serif\;">Washington Street Arts is partnering with Backyard Brushes to hold painting sessions for you and your friends.&nbsp\; There will be two opportunities to join in the fun\, one at 10:00am and the second at 2:00\,pm both at the Lake City American Legion. Tickets are available at Treats and Treasures for $30.00 or call 651-345-2882 to make a reservation.&nbsp\; </span></span><br />\n<br />\n<span style="font-size: medium\;"><span style="font-family: calibri\;">Budding artists ages 10 to 18 are welcome at both sessions and will receive a </span></span><span style="font-size: medium\;"><span style="font-family: calibri\;">$5.00 discount.&nbsp\; Samples of the paintings may be seen at Treats and Treasures or visit The Washington Street Experience on Facebook.</span></span><br />\n&nbsp\;
LOCATION:
UID:e.621.4417
SEQUENCE:3
DTSTAMP:20260425T015420Z
URL:https://public.lakecity.org/events/details/backyard-brushes-washington-street-arts-04-25-2015-4417
END:VEVENT

END:VCALENDAR
