BEGIN:VCALENDAR
VERSION:2.0
PRODID:-//ChamberMaster//Event Calendar 2.0//EN
METHOD:PUBLISH
X-PUBLISHED-TTL:P3D
REFRESH-INTERVAL:P3D
CALSCALE:GREGORIAN
BEGIN:VEVENT
DTSTART:20161118T160000Z
DTEND:20161119T220000Z
X-MICROSOFT-CDO-ALLDAYEVENT:FALSE
SUMMARY:Bake and Craft sale
DESCRIPTION:Bake and Craft sale Friday\, 11/18/16 from 10 am to 4 pm and Saturday 11/19/16 from 10 am to 4 pm.
X-ALT-DESC;FMTTYPE=text/html:Bake and Craft sale Friday\, 11/18/16 from 10 am to 4 pm and Saturday 11/19/16 from 10 am to 4 pm.
LOCATION:Masonic Hall (above ReMax) stairs on Lakeshore Drive\, Elevator on W. Lyon Ave.
UID:e.621.5488
SEQUENCE:3
DTSTAMP:20260422T102154Z
URL:https://public.lakecity.org/events/details/bake-and-craft-sale-5488
END:VEVENT

END:VCALENDAR
