BEGIN:VCALENDAR
VERSION:2.0
PRODID:-//ChamberMaster//Event Calendar 2.0//EN
METHOD:PUBLISH
X-PUBLISHED-TTL:P3D
REFRESH-INTERVAL:P3D
CALSCALE:GREGORIAN
BEGIN:VEVENT
DTSTART:20161203T150000Z
DTEND:20161203T210000Z
X-MICROSOFT-CDO-ALLDAYEVENT:FALSE
SUMMARY:Bake Sale\, Holiday Decor\, Crafts\, Flea Market and Antiques
DESCRIPTION:Huge holiday bake sale\, gently used holiday d cor sale\, 15 craft\, flea market and antique booths. Visit with Santa 10:30-12:00. Barbeques & hotdogs served 11:00-1:00. Something for everyone.
X-ALT-DESC;FMTTYPE=text/html:Huge holiday bake sale\, gently used holiday d&eacute\;cor sale\, 15 craft\, flea market and antique booths. Visit with Santa 10:30-12:00. Barbeques &amp\; hotdogs served 11:00-1:00. Something for everyone.
LOCATION:Lake City Sportsman's Club
UID:e.621.5494
SEQUENCE:3
DTSTAMP:20260422T085035Z
URL:https://public.lakecity.org/events/details/bake-sale-holiday-decor-crafts-flea-market-and-antiques-5494
END:VEVENT

END:VCALENDAR
