BEGIN:VCALENDAR
VERSION:2.0
PRODID:-//ChamberMaster//Event Calendar 2.0//EN
METHOD:PUBLISH
X-PUBLISHED-TTL:P3D
REFRESH-INTERVAL:P3D
CALSCALE:GREGORIAN
BEGIN:VEVENT
DTSTART:20171202T150000Z
DTEND:20171202T210000Z
X-MICROSOFT-CDO-ALLDAYEVENT:FALSE
SUMMARY:Bake Sale & Holiday Fair
DESCRIPTION:HUGE Christmas bake sale and gently used Christmas d cor sale along with about 15 craft fair and flea market booths. This year our Christmas d cor sale includes lots of holiday decorations along with a huge selection of gently used cookbooks. Santa will make an appearance late morning and barbecues\, hotdogs and chips will be available to purchase for lunch 11 a.m. to 1:00 p.m. Everyone welcome.
X-ALT-DESC;FMTTYPE=text/html:HUGE Christmas bake sale and gently used Christmas d&eacute\;cor sale along with about 15 craft fair and flea market booths. This year our Christmas d&eacute\;cor sale includes lots of holiday decorations along with a huge selection of gently used cookbooks. Santa will make an appearance late morning and barbecues\, hotdogs and chips will be available to purchase for lunch 11 a.m. to 1:00 p.m. Everyone welcome.
LOCATION:Lake City Sportsman's Club 2200 South Oak St Lake City Minnesota
UID:e.621.6781
SEQUENCE:3
DTSTAMP:20260421T133939Z
URL:https://public.lakecity.org/events/details/bake-sale-holiday-fair-6781
END:VEVENT

END:VCALENDAR
