BEGIN:VCALENDAR
VERSION:2.0
PRODID:-//ChamberMaster//Event Calendar 2.0//EN
METHOD:PUBLISH
X-PUBLISHED-TTL:P3D
REFRESH-INTERVAL:P3D
CALSCALE:GREGORIAN
BEGIN:VEVENT
DTSTART:20160617T150000Z
DTEND:20160618T220000Z
X-MICROSOFT-CDO-ALLDAYEVENT:FALSE
SUMMARY:Bald Eagle Days
DESCRIPTION:Visit the National Eagle Center on June 17th and 18th and join with us as we celebrate Bald Eagle Days! This celebration commemorates the anniversary of the Bald Eagle's removal from the Endangered Species List in 2007. There Minnesota DNR\, US Fish & Wildlife Service\, Wabasha Soil & Water District and US National Park Service will hold demonstrations and programs on-site\, including pontoon rides\, hands-on learning and more! Plus\, meet the National Eagle Center's eagle ambassadors up close and catch a live eagle program! There will be something for everyone!
X-ALT-DESC;FMTTYPE=text/html:Visit the National Eagle Center on June 17th and 18th and join with us as we celebrate Bald Eagle Days! This celebration commemorates the anniversary of the Bald Eagle&rsquo\;s removal from the Endangered Species List in 2007. There Minnesota DNR\, US Fish &amp\; Wildlife Service\, Wabasha Soil &amp\; Water District and US National Park Service will hold demonstrations and programs on-site\, including pontoon rides\, hands-on learning and more! Plus\, meet the National Eagle Center&#39\;s eagle ambassadors up close and catch a live eagle program! There will be something for everyone!
LOCATION:National Eagle Center
UID:e.621.5238
SEQUENCE:3
DTSTAMP:20260422T165741Z
URL:https://public.lakecity.org/events/details/bald-eagle-days-06-17-2016-5238
END:VEVENT

END:VCALENDAR
