BEGIN:VCALENDAR
VERSION:2.0
PRODID:-//ChamberMaster//Event Calendar 2.0//EN
METHOD:PUBLISH
X-PUBLISHED-TTL:P3D
REFRESH-INTERVAL:P3D
CALSCALE:GREGORIAN
BEGIN:VEVENT
DTSTART:20170624T150000Z
DTEND:20170624T180000Z
X-MICROSOFT-CDO-ALLDAYEVENT:FALSE
SUMMARY:Bean Bag Tournament - Water Ski Days
DESCRIPTION:Bean Bag Tournament will be held in the Beer Tent.\n\nPlease pre-register at Alliance Bank.
X-ALT-DESC;FMTTYPE=text/html:Bean Bag Tournament will be held in the Beer Tent.<br />\nPlease pre-register at Alliance Bank.
LOCATION:Ohuta Park
UID:e.621.5740
SEQUENCE:3
DTSTAMP:20260421T233041Z
URL:https://public.lakecity.org/events/details/bean-bag-tournament-water-ski-days-5740
END:VEVENT

END:VCALENDAR
